BEGIN:VCALENDAR
VERSION:2.0
PRODID:-//Gallatin Theater League - ECPv6.15.20//NONSGML v1.0//EN
CALSCALE:GREGORIAN
METHOD:PUBLISH
X-WR-CALNAME:Gallatin Theater League
X-ORIGINAL-URL:https://gallatintheaterleague.com
X-WR-CALDESC:Events for Gallatin Theater League
REFRESH-INTERVAL;VALUE=DURATION:PT1H
X-Robots-Tag:noindex
X-PUBLISHED-TTL:PT1H
BEGIN:VTIMEZONE
TZID:UTC
BEGIN:STANDARD
TZOFFSETFROM:+0000
TZOFFSETTO:+0000
TZNAME:UTC
DTSTART:20240101T000000
END:STANDARD
END:VTIMEZONE
BEGIN:VEVENT
DTSTART;TZID=UTC:20250809T183000
DTEND;TZID=UTC:20250809T183000
DTSTAMP:20260421T232251
CREATED:20250505T191328Z
LAST-MODIFIED:20250714T160548Z
UID:1630-1754764200-1754764200@gallatintheaterleague.com
SUMMARY:Movie - Caddyshack
DESCRIPTION:Join GTL as we show the movie:  Caddyshack
URL:https://gallatintheaterleague.com/event/movie-caddyshack/
LOCATION:Courter Theater\, 103 S. Main St.\, Gallatin\, MO\, 64640\, United States
END:VEVENT
END:VCALENDAR