BEGIN:VCALENDAR
VERSION:2.0
PRODID:-//Gallatin Theater League - ECPv6.15.20//NONSGML v1.0//EN
CALSCALE:GREGORIAN
METHOD:PUBLISH
X-WR-CALNAME:Gallatin Theater League
X-ORIGINAL-URL:https://gallatintheaterleague.com
X-WR-CALDESC:Events for Gallatin Theater League
REFRESH-INTERVAL;VALUE=DURATION:PT1H
X-Robots-Tag:noindex
X-PUBLISHED-TTL:PT1H
BEGIN:VTIMEZONE
TZID:UTC
BEGIN:STANDARD
TZOFFSETFROM:+0000
TZOFFSETTO:+0000
TZNAME:UTC
DTSTART:20240101T000000
END:STANDARD
END:VTIMEZONE
BEGIN:VEVENT
DTSTART;TZID=UTC:20250707T090000
DTEND;TZID=UTC:20250711T141500
DTSTAMP:20260420T042028
CREATED:20250312T213724Z
LAST-MODIFIED:20250312T213724Z
UID:1533-1751878800-1752243300@gallatintheaterleague.com
SUMMARY:Missoula Children's Theater - Snow White and the Seven Dwarfs
DESCRIPTION:Gallatin Theater League is happy to once again host Missoula Children’s Theatre. Open to all children entering 1st grade through 12th grade. \nAuditions \n\n\n\nJuly 7th 9:00 AM\n\n\n\nPractices \n\n\n\nJuly7-11 9:00 AM – 2:15 PM\n\n\n\nShowtimes: \n\n\n\nJuly 11th 7:00 PM\nJuly 12th 2:00 PM
URL:https://gallatintheaterleague.com/event/missoula-childrens-theater-snow-white-and-the-seven-dwarfs/
LOCATION:Courter Theater\, 103 S. Main St.\, Gallatin\, MO\, 64640\, United States
END:VEVENT
BEGIN:VEVENT
DTSTART;TZID=UTC:20250607T183000
DTEND;TZID=UTC:20250607T183000
DTSTAMP:20260420T042028
CREATED:20250505T191217Z
LAST-MODIFIED:20250505T191217Z
UID:1627-1749321000-1749321000@gallatintheaterleague.com
SUMMARY:Movie - Sonic The Hedgehog 3
DESCRIPTION:Join GTL as we show the movie:  Sonic The Hedgehog 3
URL:https://gallatintheaterleague.com/event/movie-sonic-the-hedgehog-3/
LOCATION:Courter Theater\, 103 S. Main St.\, Gallatin\, MO\, 64640\, United States
END:VEVENT
BEGIN:VEVENT
DTSTART;TZID=UTC:20250503T173000
DTEND;TZID=UTC:20250503T173000
DTSTAMP:20260420T042028
CREATED:20250303T163722Z
LAST-MODIFIED:20250303T163722Z
UID:1506-1746293400-1746293400@gallatintheaterleague.com
SUMMARY:Movie - Wicked
DESCRIPTION:Join the Gallatin Theater League as we play the Movie
URL:https://gallatintheaterleague.com/event/movie-wicked/
LOCATION:Courter Theater\, 103 S. Main St.\, Gallatin\, MO\, 64640\, United States
END:VEVENT
END:VCALENDAR