BEGIN:VCALENDAR
VERSION:2.0
PRODID:-//Gallatin Theater League - ECPv6.15.20//NONSGML v1.0//EN
CALSCALE:GREGORIAN
METHOD:PUBLISH
X-ORIGINAL-URL:https://gallatintheaterleague.com
X-WR-CALDESC:Events for Gallatin Theater League
REFRESH-INTERVAL;VALUE=DURATION:PT1H
X-Robots-Tag:noindex
X-PUBLISHED-TTL:PT1H
BEGIN:VTIMEZONE
TZID:UTC
BEGIN:STANDARD
TZOFFSETFROM:+0000
TZOFFSETTO:+0000
TZNAME:UTC
DTSTART:20240101T000000
END:STANDARD
END:VTIMEZONE
BEGIN:VEVENT
DTSTART;TZID=UTC:20251004T183000
DTEND;TZID=UTC:20251004T183000
DTSTAMP:20260420T044009
CREATED:20250618T204033Z
LAST-MODIFIED:20250618T204033Z
UID:1666-1759602600-1759602600@gallatintheaterleague.com
SUMMARY:Movie - 8 Seconds
DESCRIPTION:
URL:https://gallatintheaterleague.com/event/movie-8-seconds/
LOCATION:Courter Theater\, 103 S. Main St.\, Gallatin\, MO\, 64640\, United States
END:VEVENT
BEGIN:VEVENT
DTSTART;TZID=UTC:20251101T183000
DTEND;TZID=UTC:20251101T183000
DTSTAMP:20260420T044009
CREATED:20250618T204120Z
LAST-MODIFIED:20250703T152517Z
UID:1668-1762021800-1762021800@gallatintheaterleague.com
SUMMARY:Movie - Smokey and the Bandit
DESCRIPTION:Sponsored by the family of Bob Gibson
URL:https://gallatintheaterleague.com/event/movie-smokey-and-the-bandit/
LOCATION:Courter Theater\, 103 S. Main St.\, Gallatin\, MO\, 64640\, United States
END:VEVENT
BEGIN:VEVENT
DTSTART;TZID=UTC:20251120T190000
DTEND;TZID=UTC:20251122T190000
DTSTAMP:20260420T044009
CREATED:20250618T204737Z
LAST-MODIFIED:20250618T204737Z
UID:1672-1763665200-1763838000@gallatintheaterleague.com
SUMMARY:Play - Moriarty
DESCRIPTION:GTL is proud to present Ken Ludwig’s Moriarty A New Sherlock Holmes Adventure \nSherlock Holmes and Dr. Watson are back on the case! \nAn investigation into the Bohemian king’s stolen letters cascades into an international mystery filled with spies\, blackmail and intrigue. \nWith world peace at stake\, Holmes and Watson join forces with American actress Irene Adler to take down cunning criminal mastermind Professor Moriarty and his network of devious henchmen. \nActors play over 40 roles in this adventure that has danger – and laughter! – around every corner.
URL:https://gallatintheaterleague.com/event/play-moriarty/
LOCATION:Courter Theater\, 103 S. Main St.\, Gallatin\, MO\, 64640\, United States
END:VEVENT
BEGIN:VEVENT
DTSTART;TZID=UTC:20260307T183000
DTEND;TZID=UTC:20260307T183000
DTSTAMP:20260420T044009
CREATED:20260123T172416Z
LAST-MODIFIED:20260123T172435Z
UID:2056-1772908200-1772908200@gallatintheaterleague.com
SUMMARY:Movie - The Little Rascals
DESCRIPTION:Sponsored by: Marcy Gay Travel
URL:https://gallatintheaterleague.com/event/movie-night-the-little-rascals/
LOCATION:MO
END:VEVENT
BEGIN:VEVENT
DTSTART;TZID=UTC:20260319T190000
DTEND;TZID=UTC:20260319T190000
DTSTAMP:20260420T044009
CREATED:20260123T172614Z
LAST-MODIFIED:20260123T173209Z
UID:2060-1773946800-1773946800@gallatintheaterleague.com
SUMMARY:Play - Disaster! A Musical
DESCRIPTION:Gallatin Theater League is excited for our upcoming Spring Musical Production. \nIt’s 1979\, and New York’s hottest A-listers are lining up for the opening of a floating casino and discotheque. \nAlso attending is a faded disco star\, a sexy nightclub singer with her eleven-year-old twins\, a disaster expert\, a feminist reporter\, an older couple with a secret\, a pair of young guys who are looking for ladies\, an untrustworthy businessman and a nun with a gambling addiction. \nWhat begins as a night of boogie fever quickly changes to panic as the ship succumbs to multiple disasters\, such as earthquakes\, tidal waves and infernos. As the night turns into day\, everyone struggles to survive and\, quite possibly\, repair the love that they’ve lost… or at least escape the killer rats.
URL:https://gallatintheaterleague.com/event/play-disaster-a-musical/
LOCATION:Courter Theater\, 103 S. Main St.\, Gallatin\, MO\, 64640\, United States
END:VEVENT
BEGIN:VEVENT
DTSTART;TZID=UTC:20260320T190000
DTEND;TZID=UTC:20260320T190000
DTSTAMP:20260420T044009
CREATED:20260123T173324Z
LAST-MODIFIED:20260123T173324Z
UID:2063-1774033200-1774033200@gallatintheaterleague.com
SUMMARY:Play - Disaster! A Musical
DESCRIPTION:Gallatin Theater League is excited for our upcoming Spring Musical Production. \nIt’s 1979\, and New York’s hottest A-listers are lining up for the opening of a floating casino and discotheque. \nAlso attending is a faded disco star\, a sexy nightclub singer with her eleven-year-old twins\, a disaster expert\, a feminist reporter\, an older couple with a secret\, a pair of young guys who are looking for ladies\, an untrustworthy businessman and a nun with a gambling addiction. \nWhat begins as a night of boogie fever quickly changes to panic as the ship succumbs to multiple disasters\, such as earthquakes\, tidal waves and infernos. As the night turns into day\, everyone struggles to survive and\, quite possibly\, repair the love that they’ve lost… or at least escape the killer rats.
URL:https://gallatintheaterleague.com/event/play-disaster-a-musical-2/
LOCATION:Courter Theater\, 103 S. Main St.\, Gallatin\, MO\, 64640\, United States
END:VEVENT
BEGIN:VEVENT
DTSTART;TZID=UTC:20260321T190000
DTEND;TZID=UTC:20260321T190000
DTSTAMP:20260420T044009
CREATED:20260123T173408Z
LAST-MODIFIED:20260123T173408Z
UID:2065-1774119600-1774119600@gallatintheaterleague.com
SUMMARY:Play - Disaster! A Musical
DESCRIPTION:Gallatin Theater League is excited for our upcoming Spring Musical Production. \nIt’s 1979\, and New York’s hottest A-listers are lining up for the opening of a floating casino and discotheque. \nAlso attending is a faded disco star\, a sexy nightclub singer with her eleven-year-old twins\, a disaster expert\, a feminist reporter\, an older couple with a secret\, a pair of young guys who are looking for ladies\, an untrustworthy businessman and a nun with a gambling addiction. \nWhat begins as a night of boogie fever quickly changes to panic as the ship succumbs to multiple disasters\, such as earthquakes\, tidal waves and infernos. As the night turns into day\, everyone struggles to survive and\, quite possibly\, repair the love that they’ve lost… or at least escape the killer rats.
URL:https://gallatintheaterleague.com/event/play-disaster-a-musical-3/
LOCATION:Courter Theater\, 103 S. Main St.\, Gallatin\, MO\, 64640\, United States
END:VEVENT
BEGIN:VEVENT
DTSTART;TZID=UTC:20260405T150000
DTEND;TZID=UTC:20260405T170000
DTSTAMP:20260420T044009
CREATED:20260123T173720Z
LAST-MODIFIED:20260123T173848Z
UID:2067-1775401200-1775408400@gallatintheaterleague.com
SUMMARY:Play Auditions - Misery
DESCRIPTION:AUDITION DATE: Tentative \nGallatin Theater League is excited to try something new. We will be adding a Summer performance to our 2026 calendar. \nMisery follows successful romance novelist Paul Sheldon\, who is rescued from a car crash by his “number one fan\,” Annie Wilkes\, and wakes up captive in her secluded home. \nWhile Paul is convalescing\, Annie reads his latest book and becomes enraged when she discovers the author has killed off her favorite character\, Misery Chastain. \nAnnie forces Paul to write a new Misery novel\, and he quickly realizes Annie has no intention of letting him go anywhere. The irate Annie has Paul writing as if his life depends on it\, and it does.
URL:https://gallatintheaterleague.com/event/play-audition-misery/
LOCATION:Courter Theater\, 103 S. Main St.\, Gallatin\, MO\, 64640\, United States
END:VEVENT
BEGIN:VEVENT
DTSTART;TZID=UTC:20260513T190000
DTEND;TZID=UTC:20260513T210000
DTSTAMP:20260420T044009
CREATED:20260314T035844Z
LAST-MODIFIED:20260411T012023Z
UID:2112-1778698800-1778706000@gallatintheaterleague.com
SUMMARY:GHS Drama Club - A Trip to the Moon
DESCRIPTION:Gallatin Theater League is happy to once again be able to host the Gallatin High School Drama Club this year for their performance: A Trip to the Moon. \nSet in the transformative summer of 1969\, A Trip to the Moon is a vibrant\, vignette-style play that captures a nation reaching for dreams of love\, equality\, and the stars themselves. Told through 16 short slices of life\, each inspired by an iconic song from the era\, the play weaves together personal stories against the backdrop of historic moments that defined a generation. \nFrom sneaking off to Woodstock and dancing to the sounds of American Bandstand\, to watching the moon landing with your crush\, the characters grapple with the world shifting around them. They face the realities of the Vietnam War draft\, stand up through civil rights and women’s rights movements\, and discover the power of a protest. Along the way\, there’s laughter\, heartache\, hope—and even a proposal and a wedding.
URL:https://gallatintheaterleague.com/event/ghs-drama-club-a-trip-to-the-moon/
LOCATION:Courter Theater\, 103 S. Main St.\, Gallatin\, MO\, 64640\, United States
END:VEVENT
BEGIN:VEVENT
DTSTART;TZID=UTC:20260514T190000
DTEND;TZID=UTC:20260514T210000
DTSTAMP:20260420T044009
CREATED:20260314T035952Z
LAST-MODIFIED:20260411T012040Z
UID:2114-1778785200-1778792400@gallatintheaterleague.com
SUMMARY:GHS Drama Club - A Trip to the Moon
DESCRIPTION:Gallatin Theater League is happy to once again be able to host the Gallatin High School Drama Club this year for their performance: A Trip to the Moon. \nSet in the transformative summer of 1969\, A Trip to the Moon is a vibrant\, vignette-style play that captures a nation reaching for dreams of love\, equality\, and the stars themselves. Told through 16 short slices of life\, each inspired by an iconic song from the era\, the play weaves together personal stories against the backdrop of historic moments that defined a generation. \nFrom sneaking off to Woodstock and dancing to the sounds of American Bandstand\, to watching the moon landing with your crush\, the characters grapple with the world shifting around them. They face the realities of the Vietnam War draft\, stand up through civil rights and women’s rights movements\, and discover the power of a protest. Along the way\, there’s laughter\, heartache\, hope—and even a proposal and a wedding.
URL:https://gallatintheaterleague.com/event/ghs-drama-club-a-trip-to-the-moon-2/
LOCATION:Courter Theater\, 103 S. Main St.\, Gallatin\, MO\, 64640\, United States
END:VEVENT
BEGIN:VEVENT
DTSTART;TZID=UTC:20260706T100000
DTEND;TZID=UTC:20260711T150000
DTSTAMP:20260420T044009
CREATED:20260123T174857Z
LAST-MODIFIED:20260123T174857Z
UID:2078-1783332000-1783782000@gallatintheaterleague.com
SUMMARY:Children's Theater - The Emperor's New Clothes
DESCRIPTION:Presented by Missoula Children’s Theatre \n \nMore details to come as they are made available to us.
URL:https://gallatintheaterleague.com/event/childrens-theater-the-emperors-new-clothes/
LOCATION:Courter Theater\, 103 S. Main St.\, Gallatin\, MO\, 64640\, United States
END:VEVENT
BEGIN:VEVENT
DTSTART;TZID=UTC:20261107T190000
DTEND;TZID=UTC:20261107T190000
DTSTAMP:20260420T044009
CREATED:20260123T175434Z
LAST-MODIFIED:20260123T175434Z
UID:2081-1794078000-1794078000@gallatintheaterleague.com
SUMMARY:Movie - White Christmas
DESCRIPTION:Sponsored By: \nCorner Cafe
URL:https://gallatintheaterleague.com/event/movie-white-christmas/
LOCATION:MO
END:VEVENT
END:VCALENDAR