BEGIN:VCALENDAR
VERSION:2.0
PRODID:-//Gallatin Theater League - ECPv6.15.20//NONSGML v1.0//EN
CALSCALE:GREGORIAN
METHOD:PUBLISH
X-WR-CALNAME:Gallatin Theater League
X-ORIGINAL-URL:https://gallatintheaterleague.com
X-WR-CALDESC:Events for Gallatin Theater League
REFRESH-INTERVAL;VALUE=DURATION:PT1H
X-Robots-Tag:noindex
X-PUBLISHED-TTL:PT1H
BEGIN:VTIMEZONE
TZID:UTC
BEGIN:STANDARD
TZOFFSETFROM:+0000
TZOFFSETTO:+0000
TZNAME:UTC
DTSTART:20240101T000000
END:STANDARD
END:VTIMEZONE
BEGIN:VEVENT
DTSTART;TZID=UTC:20251120T190000
DTEND;TZID=UTC:20251122T190000
DTSTAMP:20260420T000606
CREATED:20250618T204737Z
LAST-MODIFIED:20250618T204737Z
UID:1672-1763665200-1763838000@gallatintheaterleague.com
SUMMARY:Play - Moriarty
DESCRIPTION:GTL is proud to present Ken Ludwig’s Moriarty A New Sherlock Holmes Adventure \nSherlock Holmes and Dr. Watson are back on the case! \nAn investigation into the Bohemian king’s stolen letters cascades into an international mystery filled with spies\, blackmail and intrigue. \nWith world peace at stake\, Holmes and Watson join forces with American actress Irene Adler to take down cunning criminal mastermind Professor Moriarty and his network of devious henchmen. \nActors play over 40 roles in this adventure that has danger – and laughter! – around every corner.
URL:https://gallatintheaterleague.com/event/play-moriarty/
LOCATION:Courter Theater\, 103 S. Main St.\, Gallatin\, MO\, 64640\, United States
END:VEVENT
END:VCALENDAR