BEGIN:VCALENDAR
VERSION:2.0
PRODID:-//Gallatin Theater League - ECPv6.15.20//NONSGML v1.0//EN
CALSCALE:GREGORIAN
METHOD:PUBLISH
X-WR-CALNAME:Gallatin Theater League
X-ORIGINAL-URL:https://gallatintheaterleague.com
X-WR-CALDESC:Events for Gallatin Theater League
REFRESH-INTERVAL;VALUE=DURATION:PT1H
X-Robots-Tag:noindex
X-PUBLISHED-TTL:PT1H
BEGIN:VTIMEZONE
TZID:UTC
BEGIN:STANDARD
TZOFFSETFROM:+0000
TZOFFSETTO:+0000
TZNAME:UTC
DTSTART:20240101T000000
END:STANDARD
END:VTIMEZONE
BEGIN:VEVENT
DTSTART;TZID=UTC:20250707T090000
DTEND;TZID=UTC:20250711T141500
DTSTAMP:20260418T102349
CREATED:20250312T213724Z
LAST-MODIFIED:20250312T213724Z
UID:1533-1751878800-1752243300@gallatintheaterleague.com
SUMMARY:Missoula Children's Theater - Snow White and the Seven Dwarfs
DESCRIPTION:Gallatin Theater League is happy to once again host Missoula Children’s Theatre. Open to all children entering 1st grade through 12th grade. \nAuditions \n\n\n\nJuly 7th 9:00 AM\n\n\n\nPractices \n\n\n\nJuly7-11 9:00 AM – 2:15 PM\n\n\n\nShowtimes: \n\n\n\nJuly 11th 7:00 PM\nJuly 12th 2:00 PM
URL:https://gallatintheaterleague.com/event/missoula-childrens-theater-snow-white-and-the-seven-dwarfs/
LOCATION:Courter Theater\, 103 S. Main St.\, Gallatin\, MO\, 64640\, United States
END:VEVENT
BEGIN:VEVENT
DTSTART;TZID=UTC:20250711T190000
DTEND;TZID=UTC:20250711T190000
DTSTAMP:20260418T102349
CREATED:20250312T213907Z
LAST-MODIFIED:20250312T213907Z
UID:1536-1752260400-1752260400@gallatintheaterleague.com
SUMMARY:MCT - Snow White and the Seven Dwarfs
DESCRIPTION:Show time:  July 11th at 7:00 PM \nTickets available at the door.
URL:https://gallatintheaterleague.com/event/mct-snow-white-and-the-seven-dwarfs/
LOCATION:Courter Theater\, 103 S. Main St.\, Gallatin\, MO\, 64640\, United States
END:VEVENT
END:VCALENDAR